BEGIN:VCALENDAR
VERSION:2.0
PRODID:-//Siksika Nation - ECPv6.15.20//NONSGML v1.0//EN
CALSCALE:GREGORIAN
METHOD:PUBLISH
X-ORIGINAL-URL:https://siksikanation.com
X-WR-CALDESC:Events for Siksika Nation
REFRESH-INTERVAL;VALUE=DURATION:PT1H
X-Robots-Tag:noindex
X-PUBLISHED-TTL:PT1H
BEGIN:VTIMEZONE
TZID:UTC
BEGIN:STANDARD
TZOFFSETFROM:+0000
TZOFFSETTO:+0000
TZNAME:UTC
DTSTART:20250101T000000
END:STANDARD
END:VTIMEZONE
BEGIN:VEVENT
DTSTART;TZID=UTC:20260217T093000
DTEND;TZID=UTC:20260217T150000
DTSTAMP:20260419T215621
CREATED:20260217T160807Z
LAST-MODIFIED:20260217T162445Z
UID:17190-1771320600-1771340400@siksikanation.com
SUMMARY:Status Card Clinic - February 20\, 2026
DESCRIPTION:Oki Siksika\,\n\n\n\nStatus card clinics will be held throughout the month of February 2026.\n\n\n\nStatus cards cost $10.\n\n\n\nPlease bring one of the following:\n\nDriver’s License (Government Issued ID)\nBirth Certificate\nPassport\nAlberta Health Card\n\n\n\nFor children\, please bring their birth certificates and valid parent/guardian ID.\n\n\n\nThese clinics are for Siksika Nation members only.\n\nFor further information\, please contact the Membership Department at 403‑734‑5135\, Membership@siksikanation.com\, or Charlene Good Eagle at CharleneGE@siksikanation.com.
URL:https://siksikanation.com/event/status-card-clinic-february-20-2026/
LOCATION:Siksika Group of Companies
CATEGORIES:Siksika Nation,Tribal Administration
END:VEVENT
BEGIN:VEVENT
DTSTART;TZID=UTC:20260217T093000
DTEND;TZID=UTC:20260217T150000
DTSTAMP:20260419T215621
CREATED:20260217T160916Z
LAST-MODIFIED:20260217T162431Z
UID:17192-1771320600-1771340400@siksikanation.com
SUMMARY:Status Card Clinic - February 24\, 2026
DESCRIPTION:Oki Siksika\,\n\n\n\nStatus card clinics will be held throughout the month of February 2026.\n\n\n\nStatus cards cost $10.\n\n\n\nPlease bring one of the following:\n\nDriver’s License (Government Issued ID)\nBirth Certificate\nPassport\nAlberta Health Card\n\n\n\nFor children\, please bring their birth certificates and valid parent/guardian ID.\n\n\n\nThese clinics are for Siksika Nation members only.\n\nFor further information\, please contact the Membership Department at 403‑734‑5135\, Membership@siksikanation.com\, or Charlene Good Eagle at CharleneGE@siksikanation.com.
URL:https://siksikanation.com/event/status-card-clinic-february-24-2026/
LOCATION:Blackfoot Crossing Historical Park
CATEGORIES:Siksika Nation,Tribal Administration
END:VEVENT
BEGIN:VEVENT
DTSTART;TZID=UTC:20260217T100000
DTEND;TZID=UTC:20260217T150000
DTSTAMP:20260419T215621
CREATED:20260217T161026Z
LAST-MODIFIED:20260217T162417Z
UID:17194-1771322400-1771340400@siksikanation.com
SUMMARY:Status Card Clinic - February 26\, 2026
DESCRIPTION:Oki Siksika\,\n\n\n\nStatus card clinics will be held throughout the month of February 2026.\n\n\n\nStatus cards cost $10.\n\n\n\nPlease bring one of the following:\n\nDriver’s License (Government Issued ID)\nBirth Certificate\nPassport\nAlberta Health Card\n\n\n\nFor children\, please bring their birth certificates and valid parent/guardian ID.\n\n\n\nThese clinics are for Siksika Nation members only.\n\nFor further information\, please contact the Membership Department at 403‑734‑5135\, Membership@siksikanation.com\, or Charlene Good Eagle at CharleneGE@siksikanation.com.
URL:https://siksikanation.com/event/status-card-clinic-february-26-2026/
LOCATION:Siksika Office 60 Sunpark Plaza SE\, 60 Sunpark Plaza SE Calgary\, AB\, Calgary\, Canada
CATEGORIES:Siksika Nation,Tribal Administration
END:VEVENT
END:VCALENDAR