BEGIN:VCALENDAR
VERSION:2.0
PRODID:-//Siksika Nation - ECPv6.15.20//NONSGML v1.0//EN
CALSCALE:GREGORIAN
METHOD:PUBLISH
X-WR-CALNAME:Siksika Nation
X-ORIGINAL-URL:https://siksikanation.com
X-WR-CALDESC:Events for Siksika Nation
REFRESH-INTERVAL;VALUE=DURATION:PT1H
X-Robots-Tag:noindex
X-PUBLISHED-TTL:PT1H
BEGIN:VTIMEZONE
TZID:UTC
BEGIN:STANDARD
TZOFFSETFROM:+0000
TZOFFSETTO:+0000
TZNAME:UTC
DTSTART:20240101T000000
END:STANDARD
END:VTIMEZONE
BEGIN:VEVENT
DTSTART;VALUE=DATE:20250416
DTEND;VALUE=DATE:20250418
DTSTAMP:20260426T034809
CREATED:20250401T221333Z
LAST-MODIFIED:20250401T221333Z
UID:14197-1744761600-1744934399@siksikanation.com
SUMMARY:Home Ownership and Money Management Workshops
DESCRIPTION:
URL:https://siksikanation.com/event/home-ownership-and-money-management-workshops/
CATEGORIES:Tribal Administration
END:VEVENT
END:VCALENDAR