BEGIN:VCALENDAR
VERSION:2.0
PRODID:-//Siksika Nation - ECPv6.15.20//NONSGML v1.0//EN
CALSCALE:GREGORIAN
METHOD:PUBLISH
X-WR-CALNAME:Siksika Nation
X-ORIGINAL-URL:https://siksikanation.com
X-WR-CALDESC:Events for Siksika Nation
REFRESH-INTERVAL;VALUE=DURATION:PT1H
X-Robots-Tag:noindex
X-PUBLISHED-TTL:PT1H
BEGIN:VTIMEZONE
TZID:UTC
BEGIN:STANDARD
TZOFFSETFROM:+0000
TZOFFSETTO:+0000
TZNAME:UTC
DTSTART:20230101T000000
END:STANDARD
END:VTIMEZONE
BEGIN:VEVENT
DTSTART;VALUE=DATE:20240520
DTEND;VALUE=DATE:20240521
DTSTAMP:20260420T181221
CREATED:20240509T034915Z
LAST-MODIFIED:20240509T034915Z
UID:9631-1716163200-1716249599@siksikanation.com
SUMMARY:Holiday
DESCRIPTION:Siksika Nation Tribal Administration Closed
URL:https://siksikanation.com/event/holiday/
END:VEVENT
BEGIN:VEVENT
DTSTART;TZID=UTC:20240515T100000
DTEND;TZID=UTC:20240515T120000
DTSTAMP:20260420T181221
CREATED:20240509T035651Z
LAST-MODIFIED:20240509T035651Z
UID:9635-1715767200-1715774400@siksikanation.com
SUMMARY:Arthur Ayoungman Water Treatment Plant Grand Opening & Community BBQ
DESCRIPTION:
URL:https://siksikanation.com/event/arthur-ayoungman-water-treatment-plant-grand-opening-community-bbq/
END:VEVENT
BEGIN:VEVENT
DTSTART;TZID=UTC:20240514T120000
DTEND;TZID=UTC:20240514T140000
DTSTAMP:20260420T181221
CREATED:20240509T040352Z
LAST-MODIFIED:20240509T040651Z
UID:9639-1715688000-1715695200@siksikanation.com
SUMMARY:FRESH ROUTE MARKET
DESCRIPTION:FRESH ROUTE MARKET – Every Tuesday \nTime: 12:00 – 2:00 pm (only) \n$20 basket \nCash/Debit/Credit all accepted. \nLocated at Siksika Support Centre.
URL:https://siksikanation.com/event/fresh-route-market/
LOCATION:Siksika Support Centre\, Siksika Nation
ATTACH;FMTTYPE=image/jpeg:https://siksikanation.com/wp-content/uploads/2024/05/Fresh-Routes-Market.jpeg
END:VEVENT
END:VCALENDAR