BEGIN:VCALENDAR
VERSION:2.0
PRODID:-//Siksika Nation - ECPv6.15.20//NONSGML v1.0//EN
CALSCALE:GREGORIAN
METHOD:PUBLISH
X-WR-CALNAME:Siksika Nation
X-ORIGINAL-URL:https://siksikanation.com
X-WR-CALDESC:Events for Siksika Nation
REFRESH-INTERVAL;VALUE=DURATION:PT1H
X-Robots-Tag:noindex
X-PUBLISHED-TTL:PT1H
BEGIN:VTIMEZONE
TZID:UTC
BEGIN:STANDARD
TZOFFSETFROM:+0000
TZOFFSETTO:+0000
TZNAME:UTC
DTSTART:20230101T000000
END:STANDARD
END:VTIMEZONE
BEGIN:VEVENT
DTSTART;VALUE=DATE:20241111
DTEND;VALUE=DATE:20241112
DTSTAMP:20260421T044011
CREATED:20241029T221257Z
LAST-MODIFIED:20241029T221601Z
UID:11054-1731283200-1731369599@siksikanation.com
SUMMARY:November 11: Remembrance Day
DESCRIPTION:The Siksika Nation Tribal Administration office will be closed for the holiday.
URL:https://siksikanation.com/event/remembrance-day/
CATEGORIES:Siksika Nation
END:VEVENT
END:VCALENDAR