BEGIN:VCALENDAR
VERSION:2.0
PRODID:-//Siksika Nation - ECPv6.15.20//NONSGML v1.0//EN
CALSCALE:GREGORIAN
METHOD:PUBLISH
X-ORIGINAL-URL:https://siksikanation.com
X-WR-CALDESC:Events for Siksika Nation
REFRESH-INTERVAL;VALUE=DURATION:PT1H
X-Robots-Tag:noindex
X-PUBLISHED-TTL:PT1H
BEGIN:VTIMEZONE
TZID:UTC
BEGIN:STANDARD
TZOFFSETFROM:+0000
TZOFFSETTO:+0000
TZNAME:UTC
DTSTART:20240101T000000
END:STANDARD
END:VTIMEZONE
BEGIN:VEVENT
DTSTART;TZID=UTC:20251219T180000
DTEND;TZID=UTC:20251219T210000
DTSTAMP:20260419T021901
CREATED:20251218T172300Z
LAST-MODIFIED:20251218T172300Z
UID:16747-1766167200-1766178000@siksikanation.com
SUMMARY:Ohkinniinaa ki Ninaaiks 2025 Christmas Feast - Siksika
DESCRIPTION:Oki Siksika – reminder that your Ohkinniinaa ki Ninaaiks 2025 Christmas feasts are coming up – starting this week! We invite you to join us for community Christmas dinners:\n\n\n\nOn Siksika Nation:\nDate: December 19\, 2025\nTime: 6:00-9:00pm\nLocation: Siksika Piiksapi Memorial Arbour\n\n\n\nIn Calgary:\nDate: December 22\, 2025\nTime: 5:00-9:00pm\nLocation: Westin Calgary Airport Hotel (671 Aero Drive NE)\n\n–> please note: for the Christmas dinner in Calgary\, advance table registration is now closed. Siksika Nation members are still welcome to attend\, whether or not you’ve reserved a table.\n\n\n\nCan’t wait to see you there!
URL:https://siksikanation.com/event/ohkinniinaa-ki-ninaaiks-2025-christmas-feast-siksika/
LOCATION:Siksika Nation Piiksapi Memorial Arbour
CATEGORIES:Siksika Nation
END:VEVENT
BEGIN:VEVENT
DTSTART;TZID=UTC:20251222T080000
DTEND;TZID=UTC:20260105T080000
DTSTAMP:20260419T021901
CREATED:20251218T172946Z
LAST-MODIFIED:20251218T172946Z
UID:16752-1766390400-1767600000@siksikanation.com
SUMMARY:December 22\, 2025 - January 5\, 2025 - SNTA Office Closed
DESCRIPTION:Oki Siksika Nation Members!\n\n\n\nThe winter holidays are just around the corner! This is a friendly reminder that our offices will be closed from December 22\, 2025\, through January 5\, 2026.\n\n\n\nRegular hours will resume on January 5\, 2026.\n\n\n\nWishing you peace\, joy\, and a safe holiday season with family and friends!
URL:https://siksikanation.com/event/december-22-2025-january-5-2025-snta-office-closed/
LOCATION:Siksika Nation Tribal Administration\, Alberta\, Canada
CATEGORIES:Tribal Administration
END:VEVENT
BEGIN:VEVENT
DTSTART;TZID=UTC:20251222T170000
DTEND;TZID=UTC:20251222T210000
DTSTAMP:20260419T021901
CREATED:20251218T172511Z
LAST-MODIFIED:20251218T172511Z
UID:16749-1766422800-1766437200@siksikanation.com
SUMMARY:Ohkinniinaa ki Ninaaiks 2025 Christmas Feast - Calgary
DESCRIPTION:Oki Siksika – reminder that your Ohkinniinaa ki Ninaaiks 2025 Christmas feasts are coming up – starting this week! We invite you to join us for community Christmas dinners:\n\n\n\nOn Siksika Nation:\nDate: December 19\, 2025\nTime: 6:00-9:00pm\nLocation: Siksika Piiksapi Memorial Arbour\n\n\n\nIn Calgary:\nDate: December 22\, 2025\nTime: 5:00-9:00pm\nLocation: Westin Calgary Airport Hotel (671 Aero Drive NE)\n\n–> please note: for the Christmas dinner in Calgary\, advance table registration is now closed. Siksika Nation members are still welcome to attend\, whether or not you’ve reserved a table.\n\n\n\nCan’t wait to see you there!
URL:https://siksikanation.com/event/ohkinniinaa-ki-ninaaiks-2025-christmas-feast-calgary/
LOCATION:Westin Calgary Airport Hotel (671 Aero Drive NE)
CATEGORIES:Siksika Nation
END:VEVENT
END:VCALENDAR