BEGIN:VCALENDAR
VERSION:2.0
PRODID:-//Siksika Nation - ECPv6.15.20//NONSGML v1.0//EN
CALSCALE:GREGORIAN
METHOD:PUBLISH
X-ORIGINAL-URL:https://siksikanation.com
X-WR-CALDESC:Events for Siksika Nation
REFRESH-INTERVAL;VALUE=DURATION:PT1H
X-Robots-Tag:noindex
X-PUBLISHED-TTL:PT1H
BEGIN:VTIMEZONE
TZID:UTC
BEGIN:STANDARD
TZOFFSETFROM:+0000
TZOFFSETTO:+0000
TZNAME:UTC
DTSTART:20250101T000000
END:STANDARD
END:VTIMEZONE
BEGIN:VEVENT
DTSTART;TZID=UTC:20260204T170000
DTEND;TZID=UTC:20260204T200000
DTSTAMP:20260419T215614
CREATED:20260128T162200Z
LAST-MODIFIED:20260128T182758Z
UID:17021-1770224400-1770235200@siksikanation.com
SUMMARY:Chief & Council Community Engagement Sessions - Siksika - February 4\, 2026
DESCRIPTION:Oki\, \nChief and Council are preparing to enter their Strategic Planning process for the 2025–2028 term and invite Nation members to help guide this important work. \nTwo Community Engagement Sessions will be held to gather feedback\, insights\, and direction from Nation members on community priorities. \nWe invite you to attend and let leadership know: \n– What improvements you would like to see in our community\n– What is important to you and your families\n– What priorities the Nation should focus on \nThere will be door prizes! \nRegistration: Please register for the community engagement session by emailing Tangee Scalplock at sncc@siksikanation.com so we can plan food accordingly. \nFor more information\, please contact us by phone at Carlon Big Snake\, 403-361-4709 or 403-734-5109/5102 or by email at sncc@siksikanation.com
URL:https://siksikanation.com/event/chief-council-community-engagement-sessions-siksika/
LOCATION:Siksika Nation Piiksapi Memorial Arbour
CATEGORIES:Siksika Nation
END:VEVENT
BEGIN:VEVENT
DTSTART;TZID=UTC:20260205T170000
DTEND;TZID=UTC:20260205T200000
DTSTAMP:20260419T215614
CREATED:20260128T164001Z
LAST-MODIFIED:20260128T182744Z
UID:17023-1770310800-1770321600@siksikanation.com
SUMMARY:Chief & Council Community Engagement Sessions - Calgary - February 5\, 2026
DESCRIPTION:Oki\, \nChief and Council are preparing to enter their Strategic Planning process for the 2025–2028 term and invite Nation members to help guide this important work. \nTwo Community Engagement Sessions will be held to gather feedback\, insights\, and direction from Nation members on community priorities. \nWe invite you to attend and let leadership know: \n– What improvements you would like to see in our community\n– What is important to you and your families\n– What priorities the Nation should focus on \nThere will be door prizes! \nRegistration: Please register for the community engagement session by emailing Tangee Scalplock at sncc@siksikanation.com so we can plan food accordingly. \nFor more information\, please contact us by phone at Carlon Big Snake\, 403-361-4709 or 403-734-5109/5102 or by email at sncc@siksikanation.com
URL:https://siksikanation.com/event/chief-council-community-engagement-sessions-calgary/
LOCATION:sheraton cavalier\, 2620 32 Ave NE\, Calgary\, Alberta\, T1Y 6B8\, Canada
CATEGORIES:Siksika Nation
END:VEVENT
BEGIN:VEVENT
DTSTART;TZID=UTC:20260210T140000
DTEND;TZID=UTC:20260210T170000
DTSTAMP:20260419T215614
CREATED:20260130T215205Z
LAST-MODIFIED:20260130T215428Z
UID:17084-1770732000-1770742800@siksikanation.com
SUMMARY:Siksikaitsitapi Nations Disability Project Event - February 10\, 2026
DESCRIPTION:The Siksikaitsitapi PDD (Persons with Developmental Disabilities) Program will be hosting 2 events for the community for community interviews and the opportunity to complete the Comprehensive Quality of Life Surveys. \nThere will be incentives for completed surveys\, meal served and community information available. \nDoor prizes and Valentine’s treats will also be available! \nSiksikaitsitapi Nations Disability Project Events
URL:https://siksikanation.com/event/siksikaitsitapi-nations-disability-project-events-february-10-2026/
CATEGORIES:Tribal Administration
END:VEVENT
BEGIN:VEVENT
DTSTART;TZID=UTC:20260211T140000
DTEND;TZID=UTC:20260211T170000
DTSTAMP:20260419T215614
CREATED:20260210T231605Z
LAST-MODIFIED:20260210T231605Z
UID:17152-1770818400-1770829200@siksikanation.com
SUMMARY:Siksikaitsitapi Nations Disability Project Event - February 11\, 2026
DESCRIPTION:The Siksikaitsitapi PDD (Persons with Developmental Disabilities) Program will be hosting 2 events for the community for community interviews and the opportunity to complete the Comprehensive Quality of Life Surveys. \nThere will be incentives for completed surveys\, meal served and community information available. \nDoor prizes and Valentine’s treats will also be available! \nSiksikaitsitapi Nations Disability Project Events
URL:https://siksikanation.com/event/siksikaitsitapi-nations-disability-project-event-february-11-2026/
LOCATION:Siksika Deerfoot Sportsplex
CATEGORIES:Siksika Nation,Tribal Administration
END:VEVENT
BEGIN:VEVENT
DTSTART;VALUE=DATE:20260213
DTEND;VALUE=DATE:20260214
DTSTAMP:20260419T215614
CREATED:20260213T180715Z
LAST-MODIFIED:20260213T180743Z
UID:17173-1770940800-1771027199@siksikanation.com
SUMMARY:Office Closure - Monday\, February 16\, 2026
DESCRIPTION:In observance of the upcoming holiday\, Family Day\, the Siksika Nation Tribal Administration offices will be closed on Monday\, February 16\, 2026. \nThe Siksika Nation Tribal Administration offices will re-open to regular business hours on Tuesday\, February 17\, 2026.
URL:https://siksikanation.com/event/office-closure-monday-february-16-2026/
LOCATION:Siksika Nation Tribal Administration\, Alberta\, Canada
CATEGORIES:Siksika Nation,Tribal Administration
END:VEVENT
BEGIN:VEVENT
DTSTART;TZID=UTC:20260217T093000
DTEND;TZID=UTC:20260217T150000
DTSTAMP:20260419T215614
CREATED:20260217T160807Z
LAST-MODIFIED:20260217T162445Z
UID:17190-1771320600-1771340400@siksikanation.com
SUMMARY:Status Card Clinic - February 20\, 2026
DESCRIPTION:Oki Siksika\,\n\n\n\nStatus card clinics will be held throughout the month of February 2026.\n\n\n\nStatus cards cost $10.\n\n\n\nPlease bring one of the following:\n\nDriver’s License (Government Issued ID)\nBirth Certificate\nPassport\nAlberta Health Card\n\n\n\nFor children\, please bring their birth certificates and valid parent/guardian ID.\n\n\n\nThese clinics are for Siksika Nation members only.\n\nFor further information\, please contact the Membership Department at 403‑734‑5135\, Membership@siksikanation.com\, or Charlene Good Eagle at CharleneGE@siksikanation.com.
URL:https://siksikanation.com/event/status-card-clinic-february-20-2026/
LOCATION:Siksika Group of Companies
CATEGORIES:Siksika Nation,Tribal Administration
END:VEVENT
BEGIN:VEVENT
DTSTART;TZID=UTC:20260217T093000
DTEND;TZID=UTC:20260217T150000
DTSTAMP:20260419T215614
CREATED:20260217T160916Z
LAST-MODIFIED:20260217T162431Z
UID:17192-1771320600-1771340400@siksikanation.com
SUMMARY:Status Card Clinic - February 24\, 2026
DESCRIPTION:Oki Siksika\,\n\n\n\nStatus card clinics will be held throughout the month of February 2026.\n\n\n\nStatus cards cost $10.\n\n\n\nPlease bring one of the following:\n\nDriver’s License (Government Issued ID)\nBirth Certificate\nPassport\nAlberta Health Card\n\n\n\nFor children\, please bring their birth certificates and valid parent/guardian ID.\n\n\n\nThese clinics are for Siksika Nation members only.\n\nFor further information\, please contact the Membership Department at 403‑734‑5135\, Membership@siksikanation.com\, or Charlene Good Eagle at CharleneGE@siksikanation.com.
URL:https://siksikanation.com/event/status-card-clinic-february-24-2026/
LOCATION:Blackfoot Crossing Historical Park
CATEGORIES:Siksika Nation,Tribal Administration
END:VEVENT
BEGIN:VEVENT
DTSTART;TZID=UTC:20260217T100000
DTEND;TZID=UTC:20260217T150000
DTSTAMP:20260419T215614
CREATED:20260217T161026Z
LAST-MODIFIED:20260217T162417Z
UID:17194-1771322400-1771340400@siksikanation.com
SUMMARY:Status Card Clinic - February 26\, 2026
DESCRIPTION:Oki Siksika\,\n\n\n\nStatus card clinics will be held throughout the month of February 2026.\n\n\n\nStatus cards cost $10.\n\n\n\nPlease bring one of the following:\n\nDriver’s License (Government Issued ID)\nBirth Certificate\nPassport\nAlberta Health Card\n\n\n\nFor children\, please bring their birth certificates and valid parent/guardian ID.\n\n\n\nThese clinics are for Siksika Nation members only.\n\nFor further information\, please contact the Membership Department at 403‑734‑5135\, Membership@siksikanation.com\, or Charlene Good Eagle at CharleneGE@siksikanation.com.
URL:https://siksikanation.com/event/status-card-clinic-february-26-2026/
LOCATION:Siksika Office 60 Sunpark Plaza SE\, 60 Sunpark Plaza SE Calgary\, AB\, Calgary\, Canada
CATEGORIES:Siksika Nation,Tribal Administration
END:VEVENT
END:VCALENDAR