BEGIN:VCALENDAR
VERSION:2.0
PRODID:-//Siksika Nation - ECPv6.15.20//NONSGML v1.0//EN
CALSCALE:GREGORIAN
METHOD:PUBLISH
X-ORIGINAL-URL:https://siksikanation.com
X-WR-CALDESC:Events for Siksika Nation
REFRESH-INTERVAL;VALUE=DURATION:PT1H
X-Robots-Tag:noindex
X-PUBLISHED-TTL:PT1H
BEGIN:VTIMEZONE
TZID:UTC
BEGIN:STANDARD
TZOFFSETFROM:+0000
TZOFFSETTO:+0000
TZNAME:UTC
DTSTART:20230101T000000
END:STANDARD
END:VTIMEZONE
BEGIN:VEVENT
DTSTART;TZID=UTC:20241203T090000
DTEND;TZID=UTC:20241204T180000
DTSTAMP:20260420T101542
CREATED:20241127T161814Z
LAST-MODIFIED:20241127T162041Z
UID:11422-1733216400-1733335200@siksikanation.com
SUMMARY:December 3 & 4: Ma'tapiiks Trust Distribution
DESCRIPTION:December 3 & 4\, 2024 from 9:00 am to 6:00 pm. 
URL:https://siksikanation.com/event/matapiiks-trust-distribution/
CATEGORIES:Siksika Nation
END:VEVENT
END:VCALENDAR